BEGIN:VCALENDAR
VERSION:2.0
PRODID:-//RSO Dance - ECPv6.5.0//NONSGML v1.0//EN
CALSCALE:GREGORIAN
METHOD:PUBLISH
X-ORIGINAL-URL:http://rsodance.com
X-WR-CALDESC:Events for RSO Dance
REFRESH-INTERVAL;VALUE=DURATION:PT1H
X-Robots-Tag:noindex
X-PUBLISHED-TTL:PT1H
BEGIN:VTIMEZONE
TZID:UTC
BEGIN:STANDARD
TZOFFSETFROM:+0000
TZOFFSETTO:+0000
TZNAME:UTC
DTSTART:20230101T000000
END:STANDARD
END:VTIMEZONE
BEGIN:VEVENT
DTSTART;TZID=UTC:20231125T160000
DTEND;TZID=UTC:20231125T180000
DTSTAMP:20260425T015928
CREATED:20230926T174525Z
LAST-MODIFIED:20230926T174525Z
UID:120-1700928000-1700935200@rsodance.com
SUMMARY:The Nutcracker
DESCRIPTION:
URL:http://rsodance.com/event/the-nutcracker-2/
LOCATION:Ent Center for the Arts\, 5225 N Nevada Ave.\, Colorado Springs\, CO\, 80918
CATEGORIES:Family,Performance,Show,Theatre
ATTACH;FMTTYPE=image/png:http://rsodance.com/wp-content/uploads/2023/09/4PM-Facebook-Post-Landscape.png
END:VEVENT
END:VCALENDAR