BEGIN:VCALENDAR
VERSION:2.0
PRODID:-//RSO Dance - ECPv6.5.0//NONSGML v1.0//EN
CALSCALE:GREGORIAN
METHOD:PUBLISH
X-ORIGINAL-URL:http://rsodance.com
X-WR-CALDESC:Events for RSO Dance
REFRESH-INTERVAL;VALUE=DURATION:PT1H
X-Robots-Tag:noindex
X-PUBLISHED-TTL:PT1H
BEGIN:VTIMEZONE
TZID:UTC
BEGIN:STANDARD
TZOFFSETFROM:+0000
TZOFFSETTO:+0000
TZNAME:UTC
DTSTART:20250101T000000
END:STANDARD
END:VTIMEZONE
BEGIN:VEVENT
DTSTART;TZID=UTC:20251129T160000
DTEND;TZID=UTC:20251129T180000
DTSTAMP:20260423T184049
CREATED:20250928T194219Z
LAST-MODIFIED:20251008T210756Z
UID:166-1764432000-1764439200@rsodance.com
SUMMARY:The Nutcracker
DESCRIPTION:Bring the whole family for this traditional timeless holiday classic\, performed in its entirety by over 70 young Colorado Springs dancers.  Visions of sugar plums will dance in your heads! Bonus Pre-show to include featurette performances of Frozen! Let the magic go for a theatrical experience the entire family will love!
URL:http://rsodance.com/event/the-nutcracker-4/
LOCATION:Ent Center for the Arts\, 5225 N Nevada Ave.\, Colorado Springs\, CO\, 80918
CATEGORIES:Family,Performance,Show,Theatre
ATTACH;FMTTYPE=image/png:http://rsodance.com/wp-content/uploads/2025/09/Nutcracker-2025-500px.png
END:VEVENT
END:VCALENDAR